BEGIN:VCALENDAR
VERSION:2.0
PRODID:-//eventon.com NONSGML v1.0//EN
CALSCALE:GREGORIAN
METHOD:PUBLISH
BEGIN:VEVENT
UID:69e836c8bbc2b
DTSTAMP:20260422T024736Z
DTSTART:20251213T100000Z
DTEND:20251213T170000Z
LOCATION:Dansesalen i Hvidbjerg\,  Fædrift 23\,  7080 Børkop Dansesalen i Hvidbjerg\,  Fædrift 23\,  7080 Børkop
SUMMARY:Endless Waves - 1 Dag Workshop The Gabrielle Roth's 5Rhythms®
DESCRIPTION:Hvidbjerg\,  Lørdag d. 13. December 2025 kl. 11 – 18 1 Day G
 abrielle Roth&#8217;s 5Rhythms® workshopENDLESS WAVES The Dance and the My
 steryPrerequisite: Your participation in the program is your own responsibi
 lity. Beginners are Welcome: We recommend that you have been taught by cert
 ified 5Rhythms teachers The workshop counts as required[..]\nhttps://dansep
 araplyen.dk/events/endless-waves-1-dag-workshop-the-gabrielle-roths-5rhythm
 s/
URL:https://danseparaplyen.dk/events/endless-waves-1-dag-workshop-the-gabrielle-roths-5rhythms/
END:VEVENT
END:VCALENDAR