BEGIN:VCALENDAR
VERSION:2.0
PRODID:-//eventon.com NONSGML v1.0//EN
CALSCALE:GREGORIAN
METHOD:PUBLISH
BEGIN:VEVENT
UID:69e81f10974db
DTSTAMP:20260422T010624Z
DTSTART:20251213T103000Z
DTEND:20251213T151500Z
LOCATION:KirkegΓ₯rdsvej 53\,  8000 Aarhus\,  Denmark KirkegΓ₯rdsvej 53\,  8000 Aarhus\,  Denmark
SUMMARY:Salsa Social Bootcamp - FUNdamentals & flow
DESCRIPTION:ππ ππ«π ππ¨π’π§π  π’π­ ππ π
 π’π§! π€© Salsa Social Aarhus invites you to join Anna SΓΈrensen and 
 Sara-Kristine Palm on Saturday the 13th of December from 11.30-16:15 for a 
 deep dive into Cuban salsa and music for social dancers ππ»πΊπ» π
 π‘π¨ π’π¬ π­π‘π ππ¨π¨π­πππ¦π© ππ¨π
 «?This bootcamp is for any cuban salsa[..]\nhttps://danseparaplyen.dk/eve
 nts/salsa-social-bootcamp-fundamentals-flow/
URL:https://danseparaplyen.dk/events/salsa-social-bootcamp-fundamentals-flow/
END:VEVENT
END:VCALENDAR