BEGIN:VCALENDAR
VERSION:2.0
PRODID:-//eventon.com NONSGML v1.0//EN
CALSCALE:GREGORIAN
METHOD:PUBLISH
BEGIN:VEVENT
UID:69e80a2066c2c
DTSTAMP:20260421T233704Z
DTSTART:20251213T190000Z
DTEND:20251213T225900Z
LOCATION:Radisson RED Hotel\,  Aarhus Radisson RED Hotel\,  Aarhus
SUMMARY:AARHUS • Karmaklubben // Julefest• Lørdag 13. december
DESCRIPTION:𝗩𝗶𝗱𝗲𝗼𝗲𝗿 𝗳𝗿𝗮 𝗱𝗮𝗻𝘀𝗲
 𝘂𝗹𝘃𝗲𝘁 𝘂𝗻𝗱𝗲𝗿 ↗️𝗗𝗲𝗯𝗮𝘁⬆
  Obs.: Den annoncerede julefrokost inden festen er desværre aflyst. Held
 igvis kan der spises inden festen 17. januar &#8211; se mere på Karmaklubb
 ens hjemmeside. 🎶 ProgramKl. 20.00: Dørene åbner for alle gæster\,  o
 g dansegulvet bliver skudt i gang af vores DJKl. 24.00: Tak for i aften[..]
 \nhttps://danseparaplyen.dk/events/aarhus-karmaklubben-julefrokost-lordag-1
 3-december/
URL:https://danseparaplyen.dk/events/aarhus-karmaklubben-julefrokost-lordag-13-december/
END:VEVENT
END:VCALENDAR