BEGIN:VCALENDAR
VERSION:2.0
PRODID:-//eventon.com NONSGML v1.0//EN
CALSCALE:GREGORIAN
METHOD:PUBLISH
BEGIN:VEVENT
UID:69e794412e0b9
DTSTAMP:20260421T151409Z
DTSTART:20251214T173000Z
DTEND:20251214T213000Z
LOCATION:Folkestedet Folkestedet
SUMMARY:Kizz'mas Party 2025
DESCRIPTION:Kizomba Julefrokost &#038; Dans 🤶🍹🎶🎅 ‼️ Fyldt o
 p &#8211; Lukket for yderligere tilmelding\,  men du kan komme på ventelis
 te ‼️ PROGRAM🔹18.30-19.30 Vi skal spise dejlig julemad fra fælles m
 adbord\,  alle tager en juleret med. 🔹19.30-22.00 Vi skal danse en masse
  jule-kizomba. Der kommer sjove indslag med fællesdans og små gaver.🔹2
 2.00-22.30[..]\nhttps://danseparaplyen.dk/events/kizzmas-party-2025/
URL:https://danseparaplyen.dk/events/kizzmas-party-2025/
END:VEVENT
END:VCALENDAR