BEGIN:VCALENDAR
VERSION:2.0
PRODID:-//eventon.com NONSGML v1.0//EN
CALSCALE:GREGORIAN
METHOD:PUBLISH
BEGIN:VEVENT
UID:69e6ebc5e7fac
DTSTAMP:20260421T031517Z
DTSTART:20251218T183000Z
DTEND:20251218T210000Z
LOCATION:Vestergade 58\,  8000\,  Aarhus\,  Midtjylland Vestergade 58\,  8000\,  Aarhus\,  Midtjylland
SUMMARY:Mani
DESCRIPTION:MANI Koncert på CasaV58 torsdag 18. december 2025\,  hvor MANI
  præsenterer ny single ”Ghost Of Eik” \,  der udkommer 7. november! I 
 2022 blev MANI gendannet og udsendte i 2023 Ep’en ”Fem Sejl”\,  hvorf
 ra de to singler ”Blond Pilot” og ”Monumenter” har været på forn
 em rotation på DR LYD P5.[..]\nhttps://danseparaplyen.dk/events/mani-2/
URL:https://danseparaplyen.dk/events/mani-2/
END:VEVENT
END:VCALENDAR