BEGIN:VCALENDAR
VERSION:2.0
PRODID:-//eventon.com NONSGML v1.0//EN
CALSCALE:GREGORIAN
METHOD:PUBLISH
BEGIN:VEVENT
UID:69e647d54ce3d
DTSTAMP:20260420T153549Z
DTSTART:20251219T210000Z
DTEND:20251220T020000Z
LOCATION:EQualclub EQualclub
SUMMARY:RØSSA & FRIENDS #7: THE FINAL RAVE - Last ever Hard Techno rave at EQual Club
DESCRIPTION:RØSSA &#038; FRIENDS: THE FINAL RAVE19. December\,  EQual Club
 \,  Aarhus This is it. Our last RØSSA &#038; FRIENDS event at EQual Club. 
 Ever. After New Year’s\,  the doors close for good. No more late nights o
 n these floors. No more smoke-filled chaos\,  no more strobes across the fa
 miliar walls\,  no[..]\nhttps://danseparaplyen.dk/events/rossa-friends-7-xm
 as-rave-hard-techno-all-night-long-equal-club/
URL:https://danseparaplyen.dk/events/rossa-friends-7-xmas-rave-hard-techno-all-night-long-equal-club/
END:VEVENT
END:VCALENDAR