BEGIN:VCALENDAR
VERSION:2.0
PRODID:-//eventon.com NONSGML v1.0//EN
CALSCALE:GREGORIAN
METHOD:PUBLISH
BEGIN:VEVENT
UID:69e635077bf08
DTSTAMP:20260420T141535Z
DTSTART:20251220T184500Z
DTEND:20251220T231500Z
LOCATION:Blegdamsvej 1B\,  2200 Copenhagen\,  Denmark Blegdamsvej 1B\,  2200 Copenhagen\,  Denmark
SUMMARY:SalsaSon Julefiesta - Social Dance Night
DESCRIPTION:Lørdag d 20. december fra kl 19.45🎅✨Salsason Dance Night 
 – JULEFIESTA 2025 ✨🎅Vi glæder os til at byde jer velkommen til åre
 ts sidste Salsason Dance Night – JULEFIESTA!En fest for alle\,  der elske
 r at danse Salsa\,  Son\,  Bachata og mere 💃🕺 DJ Yos sørger for det 
 bedste dansemusik og et[..]\nhttps://danseparaplyen.dk/events/salsason-jule
 fiesta-social-dance-night/
URL:https://danseparaplyen.dk/events/salsason-julefiesta-social-dance-night/
END:VEVENT
END:VCALENDAR