BEGIN:VCALENDAR
VERSION:2.0
PRODID:-//eventon.com NONSGML v1.0//EN
CALSCALE:GREGORIAN
METHOD:PUBLISH
BEGIN:VEVENT
UID:69e5efc6909f5
DTSTAMP:20260420T092006Z
DTSTART:20251221T150000Z
DTEND:20251221T170000Z
LOCATION:Carl Blochs Gade 28\,  Aarhus\,  Denmark Carl Blochs Gade 28\,  Aarhus\,  Denmark
SUMMARY:Balkan Rytmer
DESCRIPTION:Come and join us on Sunday to enjoy the incomparable and wonder
 ful Balkan dances with dynamic melodies and folk rhythms 🥁🪗You can le
 arn a great variety of dances from our instructors and dance the ones you a
 lready know💃Doors will open at 15:45\,  we hope to see you there! One-ti
 me visit:[..]\nhttps://danseparaplyen.dk/events/balkan-rytmer-6/
URL:https://danseparaplyen.dk/events/balkan-rytmer-6/
END:VEVENT
END:VCALENDAR