BEGIN:VCALENDAR
VERSION:2.0
PRODID:-//eventon.com NONSGML v1.0//EN
CALSCALE:GREGORIAN
METHOD:PUBLISH
BEGIN:VEVENT
UID:69e52c3d678da
DTSTAMP:20260419T192549Z
DTSTART:20251227T180000Z
DTEND:20251229T153000Z
LOCATION:Teaterskolen Move'n Act Teaterskolen Move'n Act
SUMMARY:TRANSITIONS - 5RHYTHMS END of YEAR WORKSHOP
DESCRIPTION:TRANSITIONS 2025/2026END-OF-YEAR WORKSHOP I AARHUS 2025 For Eng
 lish see below På dette magiske tidspunkt ved årsskiftet\,  hvor mørket 
 stadig er på sit dybeste og stilhedens vindue står åbent\,  bliver vi in
 viteret til at forbinde os med det betydningsfulde i livet. Det er en tid t
 il i fællesskab med en gruppe[..]\nhttps://danseparaplyen.dk/events/transi
 tions-5rhythms-end-of-year-workshop/
URL:https://danseparaplyen.dk/events/transitions-5rhythms-end-of-year-workshop/
END:VEVENT
END:VCALENDAR