BEGIN:VCALENDAR
VERSION:2.0
PRODID:-//eventon.com NONSGML v1.0//EN
CALSCALE:GREGORIAN
METHOD:PUBLISH
BEGIN:VEVENT
UID:69e58c4cb2dad
DTSTAMP:20260420T021540Z
DTSTART:20251227T190000Z
DTEND:20251227T220000Z
LOCATION:CasaV58 CasaV58
SUMMARY:Udsolgt! Julebal Sidetrackers
DESCRIPTION:Hvornår: 27 december kl. 20 (dørene åbner kl. 1930)hvor: Cas
 a V58\,  Vestergade 58P\,  8000 Aarhus C rioen er på banen igen i 2025! Si
 detrackers boltrer sig i blues og roots og er en opdateret udgave af den kl
 assiske orgeltrio.Godt nyt: Trioen Sidetrackers er tilbage. Nye udgivelser 
 er på vej i[..]\nhttps://danseparaplyen.dk/events/julebal-sidetrackers-2/
URL:https://danseparaplyen.dk/events/julebal-sidetrackers-2/
END:VEVENT
END:VCALENDAR