BEGIN:VCALENDAR
VERSION:2.0
PRODID:-//eventon.com NONSGML v1.0//EN
CALSCALE:GREGORIAN
METHOD:PUBLISH
BEGIN:VEVENT
UID:69ed3eeadcc8a
DTSTAMP:20260425T222338Z
DTSTART:20251129T163000Z
DTEND:20251129T224500Z
LOCATION:Brobjergskolen\,  Valdemarsgade 1\,  8000 Aarhus\,  Aarhus\,  Denmark Brobjergskolen\,  Valdemarsgade 1\,  8000 Aarhus\,  Aarhus\,  Denmark
SUMMARY:STUDENTS MEETING La Luna Latina
DESCRIPTION:LA LUNA LATINA current students meeting‼️🥳🥳🥳 ‼
 NOTE: ONLY FOR STUDENTS WHO SIGNED UP OR DROPPED-in THIS FALL SEASON 2025
 ️You can bring friends or people out of the classes by just collaborati
 ng with 15kr per person. We will start the afternoon with some dancing from
  17:30 to 19:00.💃🕺🏻At STUB 2\,  Building[..]\nhttps://danseparaply
 en.dk/events/students-meeting-la-luna-latina-4/
URL:https://danseparaplyen.dk/events/students-meeting-la-luna-latina-4/
END:VEVENT
END:VCALENDAR