BEGIN:VCALENDAR
VERSION:2.0
PRODID:-//eventon.com NONSGML v1.0//EN
CALSCALE:GREGORIAN
METHOD:PUBLISH
BEGIN:VEVENT
UID:69ecc980a2080
DTSTAMP:20260425T140240Z
DTSTART:20251130T140000Z
DTEND:20251130T160000Z
LOCATION:Klostertorvet 5\,  8000 Aarhus C\,  Danmark Klostertorvet 5\,  8000 Aarhus C\,  Danmark
SUMMARY:Fast Feet Folly!
DESCRIPTION:Fast Feet Folly is the event for Shag and Balboa aficionados! J
 oin us in Zanders (Klostertorvet 5\,  8000 Aarhus) for a nice and cosy danc
 efloor\,  and some upbeat music that will make your heart race\,  and your 
 feet move in a blur! You don&#8217;t know how to dance Balboa or[..]\nhttps
 ://danseparaplyen.dk/events/fast-feet-folly-3/
URL:https://danseparaplyen.dk/events/fast-feet-folly-3/
END:VEVENT
END:VCALENDAR