BEGIN:VCALENDAR
VERSION:2.0
PRODID:-//eventon.com NONSGML v1.0//EN
CALSCALE:GREGORIAN
METHOD:PUBLISH
BEGIN:VEVENT
UID:69ebf92c6e8ff
DTSTAMP:20260424T231348Z
DTSTART:20251202T180000Z
DTEND:20251202T200000Z
LOCATION:Folkestedet Folkestedet
SUMMARY:Zouk Lounge Dec 2'nd - Leading/following head movements
DESCRIPTION:Program:19.00 &#8211; 20.00: Open-level workshop with Ann-Marie
  and Rasmus: Leading and following small figure(s) with and without head mo
 vement. A basic level of Zouk is assumed. No previous experience with head 
 movements is required. 20.00 &#8211; 22.00: Social dance (NB! &#8220;drop-i
 n WS&#8221; means that no sign-up is needed. Please be[..]\nhttps://dansepa
 raplyen.dk/events/zouk-lounge-dec-2nd-leading-following-head-movements/
URL:https://danseparaplyen.dk/events/zouk-lounge-dec-2nd-leading-following-head-movements/
END:VEVENT
END:VCALENDAR