BEGIN:VCALENDAR
VERSION:2.0
PRODID:-//eventon.com NONSGML v1.0//EN
CALSCALE:GREGORIAN
METHOD:PUBLISH
BEGIN:VEVENT
UID:69eb42465af3b
DTSTAMP:20260424T101326Z
DTSTART:20251204T180000Z
DTEND:20251204T203000Z
LOCATION:Steinerskolen\,  Stavangervej 3\,  8600 Silkeborg Steinerskolen\,  Stavangervej 3\,  8600 Silkeborg
SUMMARY:Vi danser 5Rytmer torsdag 4. dec. -sidste gang før jul
DESCRIPTION:Vi danser IKKE onsdag den 19. november. Næste gang er torsdag 
 4. december\,  2025 kl. 19.00 på Steinerskolen. Det er sidste gang før ju
 l\,  da vi ikke KUN kan være på skolen denne gang i december. Lad os fyld
 e gulvet\,  og danse igennem og fordybe os i dansen til masser[..]\nhttps:/
 /danseparaplyen.dk/events/vi-danser-5rytmer-torsdag-4-dec-sidste-gang-for-j
 ul/
URL:https://danseparaplyen.dk/events/vi-danser-5rytmer-torsdag-4-dec-sidste-gang-for-jul/
END:VEVENT
END:VCALENDAR