BEGIN:VCALENDAR
VERSION:2.0
PRODID:-//eventon.com NONSGML v1.0//EN
CALSCALE:GREGORIAN
METHOD:PUBLISH
BEGIN:VEVENT
UID:69eb2d32ed91f
DTSTAMP:20260424T084330Z
DTSTART:20251204T180000Z
DTEND:20251204T203000Z
LOCATION:Steinerskolen\,  Stavangervej 3\,  8600 Silkeborg Steinerskolen\,  Stavangervej 3\,  8600 Silkeborg
SUMMARY:Dans 5Rytmer torsdag\,  Steinerskolen - afslutning for 2025
DESCRIPTION:Vi danser torsdag 4. december\,  2025 kl. 19.00. Vi danser på 
 Steinerskolen\,  og det er sidste gang her i 2025. Kom til masser af dans\,
   masser af god musik og en afslutningscirkel med det søde\,  det salte og
  syrlige. Jeg glæder mig til at danse med jer denne sidste aften[..]\nhttp
 s://danseparaplyen.dk/events/dans-5rytmer-torsdag-steinerskolen-afslutning-
 for-2025/
URL:https://danseparaplyen.dk/events/dans-5rytmer-torsdag-steinerskolen-afslutning-for-2025/
END:VEVENT
END:VCALENDAR