BEGIN:VCALENDAR
VERSION:2.0
PRODID:-//eventon.com NONSGML v1.0//EN
CALSCALE:GREGORIAN
METHOD:PUBLISH
BEGIN:VEVENT
UID:69eafba971535
DTSTAMP:20260424T051209Z
DTSTART:20251205T174500Z
DTEND:20251205T220000Z
LOCATION:Folkestedet Folkestedet
SUMMARY:FredagsPractica med PrePractica
DESCRIPTION:FredagsPractica ved værtskabet TDJ Jesperog Else. Tak! Program
  for aftenen:19-20: PrePractica20-21: Practica uden cortinaer og med rum og
  plads til øvning21-23: Herefter MilongaVed ankomst ring på tango klokken
  på glasdøren\,  så kommer der en tango-ven ned og lukker op. Vi øver d
 et vi har lært til undervisning i ugens løb[..]\nhttps://danseparaplyen.d
 k/events/fredagspractica-med-prepractica/
URL:https://danseparaplyen.dk/events/fredagspractica-med-prepractica/
END:VEVENT
END:VCALENDAR