BEGIN:VCALENDAR
VERSION:2.0
PRODID:-//eventon.com NONSGML v1.0//EN
CALSCALE:GREGORIAN
METHOD:PUBLISH
BEGIN:VEVENT
UID:69ea9d9c05552
DTSTAMP:20260423T223052Z
DTSTART:20251206T120000Z
DTEND:20251206T160000Z
LOCATION:Antroposofisk Kulturhus Antroposofisk Kulturhus
SUMMARY:TANGOWORKSHOPS I ÅRHUS 6. OG 20. DECEMBER 2025 MED GUNNER SVENDSEN
DESCRIPTION:TANGOWORKSHOPS I ÅRHUS EFTERÅR 2025MED GUNNER SVENDSEN Lørda
 g den 6. december &#8211; Kl. 13.00 &#8211; 17.00 – Antroposofisk Kulturh
 usLørdag den 20. december &#8211; Kl. 13.00 &#8211; 18.00 – Antroposofis
 k Kulturhus Sted: Antroposofisk Kulturhus\,  Rosenvangs Allé 251\,  8270 H
 øjbjerg Program for alle dage:Uanset om du er begynder eller mere erfaren 
 danser\, [..]\nhttps://danseparaplyen.dk/events/tangoworkshops-i-arhus-6-og
 -20-december-2025-med-gunner-svendsen/
URL:https://danseparaplyen.dk/events/tangoworkshops-i-arhus-6-og-20-december-2025-med-gunner-svendsen/
END:VEVENT
END:VCALENDAR