BEGIN:VCALENDAR
VERSION:2.0
PRODID:-//eventon.com NONSGML v1.0//EN
CALSCALE:GREGORIAN
METHOD:PUBLISH
BEGIN:VEVENT
UID:69ea86dc455c5
DTSTAMP:20260423T205348Z
DTSTART:20251206T130000Z
DTEND:20251206T160000Z
LOCATION:Skovvangskolen Skovvangskolen
SUMMARY:Social Saturday - West Coast Swing
DESCRIPTION:Welcome to Social Saturday &#8211; three hours of social dancin
 g on select Saturdays. There will be no teaching\,  but lots of great music
 . Participation is free for all members of West Coast Swing Aarhus. Each ev
 ent is from 2PM until 5PM. Dates: Oct 4thNov 22nd &#8211; at Hasle school!D
 ec 6th[..]\nhttps://danseparaplyen.dk/events/social-saturday-west-coast-swi
 ng-4/
URL:https://danseparaplyen.dk/events/social-saturday-west-coast-swing-4/
END:VEVENT
END:VCALENDAR