BEGIN:VCALENDAR
VERSION:2.0
PRODID:-//eventon.com NONSGML v1.0//EN
CALSCALE:GREGORIAN
METHOD:PUBLISH
BEGIN:VEVENT
UID:69e77ac7940cf
DTSTAMP:20260421T132527Z
DTSTART:20251213T210000Z
DTEND:20251214T020000Z
LOCATION:CasaV58 CasaV58
SUMMARY:Latin Christmas Party
DESCRIPTION:Please Note!! Event has been changed to next Satyrday the 13th.
  🚨🚨Attention &#8211; get ready to Party X-max style!🚨🚨 Latino P
 arty in Aarhus!! Feliz navidad\,  feliz navidad\,  feliz navidad\,  prosper
 o año&#8230;&#8230; Christmas is time for celebration\,  let&#8217;s celeb
 rate together. Come join the party and get on floor with the very[..]\nhttp
 s://danseparaplyen.dk/events/latin-christmas-party/
URL:https://danseparaplyen.dk/events/latin-christmas-party/
END:VEVENT
END:VCALENDAR