BEGIN:VCALENDAR
VERSION:2.0
PRODID:-//eventon.com NONSGML v1.0//EN
CALSCALE:GREGORIAN
METHOD:PUBLISH
BEGIN:VEVENT
UID:69ea2a53346e3
DTSTAMP:20260423T141859Z
DTSTART:20251207T083000Z
DTEND:20251207T091500Z
LOCATION:Ingerslevs Boulevard\,  8000 Aarhus C\,  Danmark Ingerslevs Boulevard\,  8000 Aarhus C\,  Danmark
SUMMARY:YO X GLAD OUTDOOR CIRCUIT TRAINING
DESCRIPTION:YO STUDIOS X CAFĂ‰ GLAD | OUTDOOR CIRCUIT TRAININGKom med til Ă
 Ąrets sidste udendĂ¸rs trĂ¦ning i samarbejde med CafĂ© GLAD. Vi mĂ¸des uden
 for i den friske luft til en energifyldt cirkeltrĂ¦ning efterfulgt af en lĂ
 ¦kker forfriskning. PROGRAMTrĂ¦ningen varer cirka 45 minutter og bestĂĄr af
  alsidige Ă¸velser\,  hvor vi garanterer sved[..]\nhttps://danseparaplyen.d
 k/events/yo-x-glad-outdoor-circuit-training-12/
URL:https://danseparaplyen.dk/events/yo-x-glad-outdoor-circuit-training-12/
END:VEVENT
END:VCALENDAR