BEGIN:VCALENDAR
VERSION:2.0
PRODID:-//eventon.com NONSGML v1.0//EN
CALSCALE:GREGORIAN
METHOD:PUBLISH
BEGIN:VEVENT
UID:69e8f34594a4b
DTSTAMP:20260422T161149Z
DTSTART:20251210T180000Z
DTEND:20251210T200000Z
LOCATION:Samsøgades Skole Samsøgades Skole
SUMMARY:Onsdagsdans
DESCRIPTION:Dans Dans Dans.Husk at melde ind her om du kommer eller ej.Og t
 jek begivenheden inden du kører hjemmefra.\nhttps://danseparaplyen.dk/even
 ts/onsdagsdans-13/
URL:https://danseparaplyen.dk/events/onsdagsdans-13/
END:VEVENT
END:VCALENDAR