BEGIN:VCALENDAR
VERSION:2.0
PRODID:-//eventon.com NONSGML v1.0//EN
CALSCALE:GREGORIAN
METHOD:PUBLISH
BEGIN:VEVENT
UID:69e84d89183fa
DTSTAMP:20260422T042441Z
DTSTART:20251212T174500Z
DTEND:20251212T220000Z
LOCATION:Folkestedet Folkestedet
SUMMARY:FredagsPractica med PrePractica
DESCRIPTION:FredagsPractica ved vÃ¦rtskabet TDJ Peter Elias\,  Mette og Els
 e. Tak! Program for aftenen:19-20: PrePractica20-21: Practica uden cortinae
 r og med rum og plads til Ã¸vning21-23: Herefter MilongaVed ankomst ring pÃ
 ¥ tango klokken pÃ¥ glasdÃ¸ren\,  sÃ¥ kommer der en tango-ven ned og lukker
  op. Vi Ã¸ver det vi har lÃ¦rt til undervisning[..]\nhttps://danseparaplyen
 .dk/events/fredagspractica-med-prepractica-2/
URL:https://danseparaplyen.dk/events/fredagspractica-med-prepractica-2/
END:VEVENT
END:VCALENDAR