BEGIN:VCALENDAR
VERSION:2.0
PRODID:-//eventon.com NONSGML v1.0//EN
CALSCALE:GREGORIAN
METHOD:PUBLISH
BEGIN:VEVENT
UID:69e6d9cee2dc3
DTSTAMP:20260421T015838Z
DTSTART:20251218T153000Z
DTEND:20251218T164500Z
LOCATION:Byparken\,  Hjortshøj Byparken\,  Hjortshøj
SUMMARY:Silent Julegroove for alle aldre - GRATIS
DESCRIPTION:Vi vil rigtig gerne invitere hele Hjortshøj og andre interesse
 rede til det skønneste og mest hjertevarme juleevent i vores dejlige Bypar
 k &#8211; fuldkommen gratis❤️ Det er så dejligt at opleve den gode ste
 mning\,  som I alle udtrykker omkring vores dans i Byparken og vi ønsker a
 t I alle skal opleve\, [..]\nhttps://danseparaplyen.dk/events/silent-julegr
 oove-for-alle-aldre-gratis/
URL:https://danseparaplyen.dk/events/silent-julegroove-for-alle-aldre-gratis/
END:VEVENT
END:VCALENDAR