BEGIN:VCALENDAR
VERSION:2.0
PRODID:-//eventon.com NONSGML v1.0//EN
CALSCALE:GREGORIAN
METHOD:PUBLISH
BEGIN:VEVENT
UID:69e6c17555f02
DTSTAMP:20260421T001445Z
DTSTART:20251218T170000Z
DTEND:20251218T203000Z
LOCATION:Fritidscenter Skovvang\,  Skovvangsvej 127\,  8200 Aarhus N Fritidscenter Skovvang\,  Skovvangsvej 127\,  8200 Aarhus N
SUMMARY:Christmas special - Open level class and social dance 🎄 - West Coast Swing
DESCRIPTION:Join us for a cozy Christmas special! 🎄 Sune and Laura will 
 teach an open-level class for everyone\,  followed by social dance with lot
 s of Christmas tunes to get your feet moving. We will be serving cake and i
 t will be possible to make tea or coffee\,  but please bring[..]\nhttps://d
 anseparaplyen.dk/events/christmas-special-open-level-class-and-social-dance
 -%f0%9f%8e%84-west-coast-swing/
URL:https://danseparaplyen.dk/events/christmas-special-open-level-class-and-social-dance-%f0%9f%8e%84-west-coast-swing/
END:VEVENT
END:VCALENDAR