BEGIN:VCALENDAR
VERSION:2.0
PRODID:-//eventon.com NONSGML v1.0//EN
CALSCALE:GREGORIAN
METHOD:PUBLISH
BEGIN:VEVENT
UID:69e6a97a95c9b
DTSTAMP:20260420T223226Z
DTSTART:20251218T183000Z
DTEND:20251218T230000Z
LOCATION:Fiskergyde 4\,  8000 Aarhus\,  Denmark Fiskergyde 4\,  8000 Aarhus\,  Denmark
SUMMARY:Salsa/Latin - Drop-in - hver Torsdag!
DESCRIPTION:Ugentlig Salsa/Latin Party med Cubanisima på Madam Cuba – hv
 er torsdag! ****Weekly Salsa/Latin Party with Cubanisima at Madam Cuba – 
 every Thursday!Entrance Ticket– Only 30 DKK!Cubanisima\,  in collaboratio
 n with Madam Cuba\,  hosts an authentic dance party every Thursday. We star
 t with a salsa class open to everyone – no experience[..]\nhttps://dansep
 araplyen.dk/events/salsa-latin-drop-in-hver-torsdag-33/
URL:https://danseparaplyen.dk/events/salsa-latin-drop-in-hver-torsdag-33/
END:VEVENT
END:VCALENDAR