BEGIN:VCALENDAR
VERSION:2.0
PRODID:-//eventon.com NONSGML v1.0//EN
CALSCALE:GREGORIAN
METHOD:PUBLISH
BEGIN:VEVENT
UID:69e68fa799916
DTSTAMP:20260420T204215Z
DTSTART:20251219T190000Z
DTEND:20251219T220000Z
LOCATION:Folkestedet Folkestedet
SUMMARY:Sidste FredagsPractica i 2025 v/Birgit og Charlotte
DESCRIPTION:Sidste Jule-practika på fredag 19.12 💃🕺 Birgit og Charlo
 tte 🧑‍🎄🧑‍🎄er værter &#038; DJ &#8211; og sørger for masse
 r af julepynt\,  røde spots\,  gløgg &#038; æbleskiver. Så mangler vi b
 are DIG på dansegulvet 🎄🎉🥳♥️🍷🥂https://open.spotify.com/
 track/5q6HBKcGo80djKVtofRu0p Program for aftenen kl. 20-23: En traditionel 
 milonga med cortinaer her på årets sidste fredagspractika.Vi gør lidt[..
 ]\nhttps://danseparaplyen.dk/events/fredagspractica-med-prepractica-3/
URL:https://danseparaplyen.dk/events/fredagspractica-med-prepractica-3/
END:VEVENT
END:VCALENDAR