BEGIN:VCALENDAR
VERSION:2.0
PRODID:-//eventon.com NONSGML v1.0//EN
CALSCALE:GREGORIAN
METHOD:PUBLISH
BEGIN:VEVENT
UID:69e608a67fd02
DTSTAMP:20260420T110614Z
DTSTART:20251220T193000Z
DTEND:20251220T223000Z
LOCATION:Vester Allé 15\,  8000 Aarhus\,  Denmark Vester Allé 15\,  8000 Aarhus\,  Denmark
SUMMARY:Julekoncert på Pica Pica - 20. december ❤️🎶
DESCRIPTION:Glæd dig til en stemningsfuld og hjertevarm start på julen\, 
  når Il Sexteto Feliz traditionen tro indtager Pica Pica lørdag d. 20. de
 cember🎄 Aftenen åbner med smukke og sprudlende fortolkninger af latinam
 erikanske jule- og nytårssange\,  der bringer både varme og feststemning 
 ind i vintermørket. Herefter følger et andet sæt fyldt[..]\nhttps://dans
 eparaplyen.dk/events/julekoncert-pa-pica-pica-20-december-%e2%9d%a4%ef%b8%8
 f%f0%9f%8e%b6/
URL:https://danseparaplyen.dk/events/julekoncert-pa-pica-pica-20-december-%e2%9d%a4%ef%b8%8f%f0%9f%8e%b6/
END:VEVENT
END:VCALENDAR