BEGIN:VCALENDAR
VERSION:2.0
PRODID:-//eventon.com NONSGML v1.0//EN
CALSCALE:GREGORIAN
METHOD:PUBLISH
BEGIN:VEVENT
UID:69e5453d4c4e4
DTSTAMP:20260419T211229Z
DTSTART:20251227T210000Z
DTEND:20251228T020000Z
LOCATION:EQualclub EQualclub
SUMMARY:JYLLANDSMESTERSKABERNE I DAKKEDAK
DESCRIPTION:De vise mænd fra østjylland præsenterer &#8211; Jyllandsmest
 erskaberne i dakkedak Mikkel Jais\,  Søren Connery og oginokken Daniel har
  taget endnu en tur rundt om solen\,  så kom og sving træbenet til årets
  sidste støvledans. Vi hælder en ordentlig spand\,  hårdtsparkende umti-
 umti-musik\,  ned af trappen til den dybe kælder på EQual[..]\nhttps://da
 nseparaplyen.dk/events/jyllandsmesterskaberne-i-dakkedak/
URL:https://danseparaplyen.dk/events/jyllandsmesterskaberne-i-dakkedak/
END:VEVENT
END:VCALENDAR