BEGIN:VCALENDAR
VERSION:2.0
PRODID:-//eventon.com NONSGML v1.0//EN
CALSCALE:GREGORIAN
METHOD:PUBLISH
BEGIN:VEVENT
UID:69e5169322a7e
DTSTAMP:20260419T175323Z
DTSTART:20251231T103000Z
DTEND:20251231T114500Z
LOCATION:Egå Møllevej 213\,  8250 Egå\,  Danmark Egå Møllevej 213\,  8250 Egå\,  Danmark
SUMMARY:Silent Nytårs Groove - UDSOLGT!!
DESCRIPTION:Traditionen tro afholder jeg igen i år Silent Nytårs Groove\,
   da det bare er den bedste og dejligste måde at tage afsked med 2025 og t
 age imod det helt nye år I år sker det på et helt nyt dansespot &#8211; 
 nemlig et stort 450 m2 drivhus i Egå. Det[..]\nhttps://danseparaplyen.dk/e
 vents/silent-nytars-groove/
URL:https://danseparaplyen.dk/events/silent-nytars-groove/
END:VEVENT
END:VCALENDAR