BEGIN:VCALENDAR
VERSION:2.0
PRODID:-//eventon.com NONSGML v1.0//EN
CALSCALE:GREGORIAN
METHOD:PUBLISH
BEGIN:VEVENT
UID:69e4d21478f77
DTSTAMP:20260419T130108Z
DTSTART:20260103T184500Z
DTEND:20260103T231500Z
LOCATION:Blegdamsvej 1B\,  2200 Copenhagen\,  Denmark Blegdamsvej 1B\,  2200 Copenhagen\,  Denmark
SUMMARY:SalsaSon Nytårs Fiesta - Cubansk Live Band
DESCRIPTION:English Below 🎉💃 NYTÅRSFEST 2026 – CUBANSK FIESTA med 
 fantastiske musikereVi fejrer det nye år lørdag d 3 jan med live musik\, 
  dans\,  glimmer og cubansk energi – og du er inviteret!🥂✨ Denne aft
 en får vi fornemt besøg af de dygtige musikere Tony Moreaux with Friends\
 ,  der spiller ægte cubansk[..]\nhttps://danseparaplyen.dk/events/salsason
 -nytars-fiesta-cubansk-live-band/
URL:https://danseparaplyen.dk/events/salsason-nytars-fiesta-cubansk-live-band/
END:VEVENT
END:VCALENDAR