BEGIN:VCALENDAR
VERSION:2.0
PRODID:-//eventon.com NONSGML v1.0//EN
CALSCALE:GREGORIAN
METHOD:PUBLISH
BEGIN:VEVENT
UID:69e892c358f7b
DTSTAMP:20260422T092003Z
DTSTART:20251211T160500Z
DTEND:20251211T170000Z
LOCATION:Online Event Online Event
SUMMARY:// 🎄 BOOTY-TWERKMAS 🍑💃- Drop in class // 🔥
DESCRIPTION:TWERK &#8211; DANCE &#8211; BOOTYLICIOUS TIME ❤️🎄🔥I d
 enne Booty-Twerkmas workshop skal vi i en tur i Booty wonderland ☝️😉
  Vi skal nemlig twerke os varme inden julen kommer over os. Vi starter med 
 en opvarmning\,  der ikke bare får puls og muskler i gang\,  men også hj
 lper dig med at[..]\nhttps://danseparaplyen.dk/events/%f0%9f%8e%84-booty-t
 werkmas-%f0%9f%8d%91%f0%9f%92%83-drop-in-class-%f0%9f%94%a5/
URL:https://danseparaplyen.dk/events/%f0%9f%8e%84-booty-twerkmas-%f0%9f%8d%91%f0%9f%92%83-drop-in-class-%f0%9f%94%a5/
END:VEVENT
END:VCALENDAR