BEGIN:VCALENDAR
VERSION:2.0
PRODID:-//eventon.com NONSGML v1.0//EN
CALSCALE:GREGORIAN
METHOD:PUBLISH
BEGIN:VEVENT
UID:69eb895d7c02c
DTSTAMP:20260424T151645Z
DTSTART:20251203T184000Z
DTEND:20251203T213000Z
LOCATION:Folkestedet Folkestedet
SUMMARY:Kizomba drop in onsdag
DESCRIPTION:✨ En helt særlig onsdag venter dig på Folkestedet! ✨Denne
  uge har vi besøg af Orlan Mat fra USA\,  som både står for intro og DJ-
 set. 💃🕺 INTRO MED ORLAN (USA) og Christine KL. 19.40 💃🕺 Orlan i
 nviterer os ind i en oplevelse af blending – hvordan man kan kombinere[..
 ]\nhttps://danseparaplyen.dk/events/kizomba-drop-in-onsdag-28/
URL:https://danseparaplyen.dk/events/kizomba-drop-in-onsdag-28/
END:VEVENT
END:VCALENDAR