BEGIN:VCALENDAR
VERSION:2.0
PRODID:-//eventon.com NONSGML v1.0//EN
CALSCALE:GREGORIAN
METHOD:PUBLISH
BEGIN:VEVENT
UID:69ea0eae25b70
DTSTAMP:20260423T122102Z
DTSTART:20251206T170000Z
DTEND:20251207T000000Z
LOCATION:Frontløberne Frontløberne
SUMMARY:Sensual Night in collab with FusionKizz
DESCRIPTION:✨December edition of 𝘚𝘦𝘯𝘴𝘶𝘢𝘭 𝘯𝘪
 𝘩𝘵 in collaboration with 𝐅𝐮𝐬𝐢𝐨𝐧𝐊𝐢𝐳𝐳! 
  💥 Kizomba bootcamp “Fly with us” with Javier and Catherine.❗️
 Registration and payments for the bootcamp must be made through Catherine:
 🏼https://facebook.com/events/s/fusionkizz-fly-with-us-bootcam/1318427
 486549306/ 🔴 Same venue with unique atmosphere &#8211; in the heart of A
 arhus🔴 Professional DJ🔴 Kizomba bootcamp 🎵 50/50 Kizomba/Bachata 
 [..]\nhttps://danseparaplyen.dk/events/sensual-night-in-collab-with-fusi
 onkizz/
URL:https://danseparaplyen.dk/events/sensual-night-in-collab-with-fusionkizz/
END:VEVENT
END:VCALENDAR