BEGIN:VCALENDAR
VERSION:2.0
PRODID:-//eventon.com NONSGML v1.0//EN
CALSCALE:GREGORIAN
METHOD:PUBLISH
BEGIN:VEVENT
UID:69e9f68dc2240
DTSTAMP:20260423T103805Z
DTSTART:20251207T150000Z
DTEND:20251207T170000Z
LOCATION:Valdemarsgade 1G\,  8000 Aarhus C\,  Danmark Valdemarsgade 1G\,  8000 Aarhus C\,  Danmark
SUMMARY:Merengue & Salsa: The Latin Way - Intro Class & Social
DESCRIPTION:(ES / DA / EN) Precio: 30 kr¡Regresamos luego del Aarhus Dance
  Festival con el último social de La Forma Latina este año con Merengue\,
   Salsa y temas navideños! ¡Hola bailador! Ya conoces el concepto de &#82
 20;La Forma Latina&#8221;: La música que conoces para todos los gustos. Te
 ndremos una clase[..]\nhttps://danseparaplyen.dk/events/merengue-salsa-the-
 latin-way-intro-class-social/
URL:https://danseparaplyen.dk/events/merengue-salsa-the-latin-way-intro-class-social/
END:VEVENT
END:VCALENDAR