BEGIN:VCALENDAR
VERSION:2.0
PRODID:-//eventon.com NONSGML v1.0//EN
CALSCALE:GREGORIAN
METHOD:PUBLISH
BEGIN:VEVENT
UID:69e9e1c65fb04
DTSTAMP:20260423T090926Z
DTSTART:20251207T164500Z
DTEND:20251207T213000Z
LOCATION:Stakladen Live Stakladen Live
SUMMARY:Salsa Night med Zouk og Cha-cha-cha
DESCRIPTION:Program (english version below): Studenterhus Aarhus og Salsacl
 ave glæder sig til at danse med jer – det bliver fantastisk!Bare trop op
  ved indgangen. Man skal ikke tilmelde sig på forhånd 🙂 17.45-18.45: Z
 OUK og CHA-CHA-CHA:• Zouk for begyndere/improvers med Mathias Frandsen•
  Cha-cha-cha for letøvede/øvede med Heike Müller 19.00-20.00: SALSA på[
 ..]\nhttps://danseparaplyen.dk/events/salsa-night-med-zouk-og-cha-cha-cha/
URL:https://danseparaplyen.dk/events/salsa-night-med-zouk-og-cha-cha-cha/
END:VEVENT
END:VCALENDAR