BEGIN:VCALENDAR
VERSION:2.0
PRODID:-//eventon.com NONSGML v1.0//EN
CALSCALE:GREGORIAN
METHOD:PUBLISH
BEGIN:VEVENT
UID:69e93a265aaab
DTSTAMP:20260422T211414Z
DTSTART:20251209T180000Z
DTEND:20251209T203000Z
LOCATION:Folkestedet Folkestedet
SUMMARY:Swing cafe på Folkestedet
DESCRIPTION:For ALLE Kom Og Dans dansere:Vi danser Juleswing og hygger os p
 å Folkestedet kl. 19.00 – 21.30🎄😊Aftenens DJ er Peter Düring og E
 rik Skannrup\,  som har lovet at spille god dansemusik🎼💃🕺Vi server
 er kaffe/te og julesnacks af både det søde og sunde😉Medbring eget serv
 ice Betaling i døren kr. 40 via MobilpayKom[..]\nhttps://danseparaplyen.dk
 /events/swing-cafe-pa-folkestedet/
URL:https://danseparaplyen.dk/events/swing-cafe-pa-folkestedet/
END:VEVENT
END:VCALENDAR