BEGIN:VCALENDAR
VERSION:2.0
PRODID:-//eventon.com NONSGML v1.0//EN
CALSCALE:GREGORIAN
METHOD:PUBLISH
BEGIN:VEVENT
UID:69eb6f60886f8
DTSTAMP:20260424T132552Z
DTSTART:20251213T181500Z
DTEND:20251213T230000Z
LOCATION:Folkestedet Carl Blochs Gade 28 \,  Aarhus C Folkestedet Carl Blochs Gade 28 \,  Aarhus C
SUMMARY:Salsa & Bachata Party - 2 Workshops - 2 Dance Floors
DESCRIPTION:🎉 SATURDAYS SALSA &#038; BACHATA PARTY 🎉👌 PRICE 40kr /
  CASH or MOBILE PAY👉 👉 Provides access to both dance floors 💥NB! &
 gt;&gt; Bringing your own drinks/water is NOT ALOWED 💥NB🍹 Affordable 
 prices in the bar &gt; Vine /Beers /Soda/Water20kr/20kr/20kr/10kr&#8212;&#8
 212;&#8212;&#8212;&#8212;&#8212;&#8211;PROGRAM FOR THE NIGHT ☆● 19.15 &
 #8211; DOORS OPEN● 19.30 &#8211;[..]\nhttps://danseparaplyen.dk/events/sa
 lsa-bachata-party-2-workshops-2-dance-floors/
URL:https://danseparaplyen.dk/events/salsa-bachata-party-2-workshops-2-dance-floors/
END:VEVENT
END:VCALENDAR