BEGIN:VCALENDAR
VERSION:2.0
PRODID:-//eventon.com NONSGML v1.0//EN
CALSCALE:GREGORIAN
METHOD:PUBLISH
BEGIN:VEVENT
UID:69e61f10647ea
DTSTAMP:20260420T124152Z
DTSTART:20251220T181500Z
DTEND:20251220T230000Z
LOCATION:Kirkegårdsvej 53\,  Aarhus C Kirkegårdsvej 53\,  Aarhus C
SUMMARY:Salsa & Bachata Party - 2 Dance Floors - 2 Workshops
DESCRIPTION:🎉 SALSA &#038; BACHATA PARTY &#8211; NOTICE VENUE 🎉👉 P
 RICE &gt; 30kr / CASH or MOBILE PAY👉 ) PLACE &gt; Folkehuset Kirkegårds
 vej 53\,  Aarhus C👉 🎉 THERE’S NO BAR just bring your own Beers / Wa
 ter etc. PROGRAM FOR THE NIGHT ☆● 19.15 &#8211; DOORS OPEN● 19.30 &#8
 211; 20.15 &gt;[..]\nhttps://danseparaplyen.dk/events/salsa-bachata-party-2
 -dance-floors-2-workshops/
URL:https://danseparaplyen.dk/events/salsa-bachata-party-2-dance-floors-2-workshops/
END:VEVENT
END:VCALENDAR