BEGIN:VCALENDAR
VERSION:2.0
PRODID:-//eventon.com NONSGML v1.0//EN
CALSCALE:GREGORIAN
METHOD:PUBLISH
BEGIN:VEVENT
UID:69e5d3924cb8f
DTSTAMP:20260420T071946Z
DTSTART:20251220T210000Z
DTEND:20251221T020000Z
LOCATION:Institut for (X)\,  Godsbanen\,  Aarhus Institut for (X)\,  Godsbanen\,  Aarhus
SUMMARY:Cypher Movement Club Night
DESCRIPTION:πClub Night β Curated by Cypher Movement π Get ready to
  close out the year in the best way possible β on the dancefloor. Join us
  20th of December at &#8216;A huset&#8217; for a night dedicated to movemen
 t\,  music\,  and community. π Time: 22:00 β 03:00πΈ Entrance: FREEπ
 § DJs: FIA[..]\nhttps://danseparaplyen.dk/events/cypher-movement-club-nig
 ht/
URL:https://danseparaplyen.dk/events/cypher-movement-club-night/
END:VEVENT
END:VCALENDAR