BEGIN:VCALENDAR
VERSION:2.0
PRODID:-//eventon.com NONSGML v1.0//EN
CALSCALE:GREGORIAN
METHOD:PUBLISH
BEGIN:VEVENT
UID:69e5a3d863b95
DTSTAMP:20260420T035608Z
DTSTART:20251225T210000Z
DTEND:20251226T040000Z
LOCATION:CasaV58 CasaV58
SUMMARY:CHRISTMAS RAVE AARHUS - AUM SHANTI & LIGHT VISION live-sets
DESCRIPTION:β.π.βββ.β.β&#8212;ββ.π.β.π.β&#8212
 ;βππ«π¨π­π¨π§ππ π©π«ππ¬ππ§π­π¬ ββ
 βπππππΈπ βπΈππΌ ππππ βββ.π€
 Ά.βββ&#8212;β.π.βββ&#8212;-β.β.β KΓMPE FARVEL LASER
  SHOW !! Sidste PSY-TRANCE event pΓ₯ V58. Det ikoniske spillested drejer nΓ
 Έglen om efter 60 Γ₯rs tro tjeneste til KulturDanmark! HOHOHO tid til at gi
 ve den bag-JUL igen til et πππΒ΄ππππ ππππ 
 OG TRADITIONEN TRO AFHOLDES DET D. 25 DEC. af[..]\nhttps://danseparaplyen.d
 k/events/christmas-rave-aarhus-aum-shanti/
URL:https://danseparaplyen.dk/events/christmas-rave-aarhus-aum-shanti/
END:VEVENT
END:VCALENDAR