BEGIN:VCALENDAR
VERSION:2.0
PRODID:-//eventon.com NONSGML v1.0//EN
CALSCALE:GREGORIAN
METHOD:PUBLISH
BEGIN:VEVENT
UID:69e571ae17918
DTSTAMP:20260420T002206Z
DTSTART:20251227T181500Z
DTEND:20251227T230000Z
LOCATION:Kirkegårdsvej 53\,  Aarhus C Kirkegårdsvej 53\,  Aarhus C
SUMMARY:Salsa & Bachata Party - 2 Dance Floors - 2 Workshops
DESCRIPTION:🎉 SALSA &#038; BACHATA PARTY &#8211; NOTICE VENUE 🎉👉PR
 ICE &gt; 30kr / CASH or MOBILE PAY👉 ) PLACE &gt; Folkehuset Kirkegårdsv
 ej 53\,  Aarhus C👉 There`s NO BAR just bring your own Beers / Water etc.
  PROGRAM FOR THE NIGHT ☆● 19.15 &#8211; DOORS OPEN● 19.30 &#8211; 20.
 15 &gt; Bachata Beginner/Improver[..]\nhttps://danseparaplyen.dk/events/sal
 sa-bachata-party-2-dance-floors-2-workshops-2/
URL:https://danseparaplyen.dk/events/salsa-bachata-party-2-dance-floors-2-workshops-2/
END:VEVENT
END:VCALENDAR