BEGIN:VCALENDAR
VERSION:2.0
PRODID:-//eventon.com NONSGML v1.0//EN
CALSCALE:GREGORIAN
METHOD:PUBLISH
BEGIN:VEVENT
UID:69e74de29a847
DTSTAMP:20260421T101354Z
DTSTART:20251216T170000Z
DTEND:20251216T210000Z
LOCATION:Viby Skole Viby Skole
SUMMARY:Gertrud Sands (lille) JuleMilonga 2025
DESCRIPTION:Julepyntet lokale – ild i pejsen &#8211;dejlige julecotinaer\
 ,  samt en god blanding af ny og gammel tangomusik incl. billige drikkevare
 r og søde dansepartnere. Kan du stå for det?I samarbejde med gode gamle G
 ertrud\,  indbydes til en lille hyggelig JuleMilonga TIRSDAG d. 16. decembe
 r kl. 18.00 – 22.00 på Viby Skole.[..]\nhttps://danseparaplyen.dk/events
 /gertrud-sands-lille-julemilonga-2025/
URL:https://danseparaplyen.dk/events/gertrud-sands-lille-julemilonga-2025/
END:VEVENT
END:VCALENDAR