BEGIN:VCALENDAR
VERSION:2.0
PRODID:-//eventon.com NONSGML v1.0//EN
CALSCALE:GREGORIAN
METHOD:PUBLISH
BEGIN:VEVENT
UID:69e7390e35640
DTSTAMP:20260421T084502Z
DTSTART:20251216T180000Z
DTEND:20251216T204500Z
LOCATION:Folkestedet Folkestedet
SUMMARY:Zouk Lounge with special guest teacher!
DESCRIPTION:Program:19.00 &#8211; 20.00: Zouk drop-in class with Clara Guo!
  Clara is a very talented and dedicated dancer\,  and she is a zouk teacher
  in her local community in Switzerland. She is visiting Aarhus\,  and we ar
 e lucky to have her with us this Tuesday! The class is open level\,  meanin
 g[..]\nhttps://danseparaplyen.dk/events/zouk-lounge-with-special-guest-teac
 her/
URL:https://danseparaplyen.dk/events/zouk-lounge-with-special-guest-teacher/
END:VEVENT
END:VCALENDAR