BEGIN:VCALENDAR
VERSION:2.0
PRODID:-//eventon.com NONSGML v1.0//EN
CALSCALE:GREGORIAN
METHOD:PUBLISH
BEGIN:VEVENT
UID:69e674e150ce3
DTSTAMP:20260420T184801Z
DTSTART:20251219T183000Z
DTEND:20251219T220000Z
LOCATION:Folkestedet Folkestedet
SUMMARY:Extra zouklounge Friday December 19th
DESCRIPTION:Extra zouklounge Friday d. 19/12 Program:19:45 &#8211; 20:30: O
 pen level drop-in WS with Morten20:30 &#8211; 23+: Social dancing with DJ Z
 oukaroff + DJ Razputin Sted: Folkestedet\,  Foyer (lokale 0.1/hullet). Ring
  evt. på klokken ved vores seddel på yderdøren. Pris: Gratis.Men hvis du
  kommer ofte\,  bør du melde dig ind i[..]\nhttps://danseparaplyen.dk/even
 ts/extra-zouklounge-friday-december-19th/
URL:https://danseparaplyen.dk/events/extra-zouklounge-friday-december-19th/
END:VEVENT
END:VCALENDAR