BEGIN:VCALENDAR
VERSION:2.0
PRODID:-//eventon.com NONSGML v1.0//EN
CALSCALE:GREGORIAN
METHOD:PUBLISH
BEGIN:VEVENT
UID:69e55ae49e2a7
DTSTAMP:20260419T224452Z
DTSTART:20251227T130000Z
DTEND:20251227T160000Z
LOCATION:Café Mellemfolk Café Mellemfolk
SUMMARY:JuleTango på loftet
DESCRIPTION:JuleTango med Glögg og julesmåkager Kom og lad den sidste jul
 enisse få ro&#8230;. indtil næste år.Det er gode venner som mødes\,  hj
 ælpes ad og nyder tango klassikere. Efter kl. 15 kan der snige sig lidt nu
 evo og ChristmasTango ind. Benny og Alexandr er tovholdere og TDJ’s samme
 n med søde venner\nhttps://danseparaplyen.dk/events/juletango-pa-loftet/
URL:https://danseparaplyen.dk/events/juletango-pa-loftet/
END:VEVENT
END:VCALENDAR