BEGIN:VCALENDAR
VERSION:2.0
PRODID:-//eventon.com NONSGML v1.0//EN
CALSCALE:GREGORIAN
METHOD:PUBLISH
BEGIN:VEVENT
UID:69e502ff2265b
DTSTAMP:20260419T162951Z
DTSTART:20251231T210000Z
DTEND:20260101T020000Z
LOCATION:Vestergade 58\,  8000 Aarhus\,  Denmark Vestergade 58\,  8000 Aarhus\,  Denmark
SUMMARY:EQual Club THE FINAL
DESCRIPTION:EQual Club THE FINAL Dear friends\,  club family\,  ravers\,  D
 Js\,  artists\,  and everyone who ever found their way down the stairs to E
 qual Club New Year’s Eve marks the very last night for us at Vestergade 5
 8. On this final night we celebrate what we&#8217;ve created together. Sett
 ing the perfect[..]\nhttps://danseparaplyen.dk/events/nye-the-final/
URL:https://danseparaplyen.dk/events/nye-the-final/
END:VEVENT
END:VCALENDAR