BEGIN:VCALENDAR
VERSION:2.0
PRODID:-//eventon.com NONSGML v1.0//EN
CALSCALE:GREGORIAN
METHOD:PUBLISH
BEGIN:VEVENT
UID:69e4ea9b93def
DTSTAMP:20260419T144547Z
DTSTART:20260102T170000Z
DTEND:20260102T230000Z
LOCATION:Kirkegรฅrdsvej 53\,  8000 Aarhus\,  Denmark Kirkegรฅrdsvej 53\,  8000 Aarhus\,  Denmark
SUMMARY:Salsa Social Aarhus - New Years Gala
DESCRIPTION:โจ๐๐ข๐๐ง๐ฏ๐๐ง๐ข๐๐จs ๐๐๐ฅ๐ฌ๐
 ๐ซ๐๐ฌ ๐ฒ ๐๐๐ฅ๐ฌ๐๐ซ๐จ๐ฌ! โจ On January 2nd we
  kick off 2026 with a glittery Cuban fiesta when we invite everyone to join
  us for our New Years Gala ๐ We are very happy to welcome back the (in)f
 amous Sรธren Frรธlund as our guest instructor for the New Years Gala.[..]\n
 https://danseparaplyen.dk/events/salsa-social-aarhus-new-years-gala/
URL:https://danseparaplyen.dk/events/salsa-social-aarhus-new-years-gala/
END:VEVENT
END:VCALENDAR