BEGIN:VCALENDAR
VERSION:2.0
PRODID:-//eventon.com NONSGML v1.0//EN
CALSCALE:GREGORIAN
METHOD:PUBLISH
BEGIN:VEVENT
UID:69e5bcf605c2f
DTSTAMP:20260420T054318Z
DTSTART:20251221T164500Z
DTEND:20251221T213000Z
LOCATION:Stakladen Live Stakladen Live
SUMMARY:Bailatina sidste gang i år: Bachata og Salsa Night med Son!
DESCRIPTION:Program (english version below): Studenterhus Aarhus og Salsacl
 ave glæder sig til at danse med jer – det bliver fantastisk! Bare trop o
 p ved indgangen. Man skal ikke tilmelde sig på forhånd 🙂 17.45-18.45: 
 BACHATA og SON:• Bachata for begyndere/improvers med Sofie Bøye• Bacha
 ta for letøvede/øvede med Michael Rua Alex• Son[..]\nhttps://danseparap
 lyen.dk/events/bailatina-sidste-gang-i-ar-bachata-og-salsa-night-med-son/
URL:https://danseparaplyen.dk/events/bailatina-sidste-gang-i-ar-bachata-og-salsa-night-med-son/
END:VEVENT
END:VCALENDAR