BEGIN:VCALENDAR
VERSION:2.0
PRODID:-//eventon.com NONSGML v1.0//EN
CALSCALE:GREGORIAN
METHOD:PUBLISH
BEGIN:VEVENT
UID:69eb1f9b5b082
DTSTAMP:20260424T074531Z
DTSTART:20260628T150000Z
DTEND:20260705T080000Z
LOCATION:Rødegaard\,  Karlshøjvej 5\,  8420 Knebel\,  Syddjurs Rødegaard\,  Karlshøjvej 5\,  8420 Knebel\,  Syddjurs
SUMMARY:The Power of Dancing - 5Rhythms-Sommerworkshop 2026
DESCRIPTION:Danish/ English: The power of dancing\,  sommerretreat 2026\,  
 en 5Rytme-rejse igennem waves og heartbeat.🌀Waves: Søndag aften og hele
  mandagen danser vi igennem de 5Rytmer for at lande i kroppen\,  finde vore
 s rødder og være med alt det vi er. Vi skaber et trygt og sikkert rum sam
 men så vi hele[..]\nhttps://danseparaplyen.dk/events/the-power-of-dancing-
 5rhythms-sommerworkshop-2026/
URL:https://danseparaplyen.dk/events/the-power-of-dancing-5rhythms-sommerworkshop-2026/
END:VEVENT
END:VCALENDAR