BEGIN:VCALENDAR
VERSION:2.0
PRODID:-//eventon.com NONSGML v1.0//EN
CALSCALE:GREGORIAN
METHOD:PUBLISH
BEGIN:VEVENT
UID:69eb1dd8d15f4
DTSTAMP:20260424T073800Z
DTSTART:20260410T143000Z
DTEND:20260410T173000Z
LOCATION:Folkestedet Folkestedet
SUMMARY:Mini workshop og GENERALFORSAMLING
DESCRIPTION:Flamenco og Generalforsamling Kom med til La Caña&#8217;s gene
 ralforsamling. Kom og bidrag til hvad der skal ske det næste år og hør m
 ere om foreningens arbejde. MEN FØRST har vi en mini workshop om dansen Bu
 leria\,  inden vi nyder et glas med snack/let tapas\,  hvor foreningen er v
 ært og vi[..]\nhttps://danseparaplyen.dk/events/mini-workshop-og-generalfo
 rsamling/
URL:https://danseparaplyen.dk/events/mini-workshop-og-generalforsamling/
END:VEVENT
END:VCALENDAR